BEGIN:VCALENDAR
VERSION:2.0
PRODID:-//ChamberMaster//Event Calendar 2.0//EN
METHOD:PUBLISH
X-PUBLISHED-TTL:P3D
REFRESH-INTERVAL:P3D
CALSCALE:GREGORIAN
BEGIN:VEVENT
DTSTART:20211119T163000Z
DTEND:20211119T213000Z
X-MICROSOFT-CDO-ALLDAYEVENT:FALSE
SUMMARY:Badass Certification Class
DESCRIPTION:FEAR is the #1 obstacle for success! We're Flipping the Format on the Fear of Failure! Are you ready to be a Certified Badass? I've found that most people are! Will you be one of them? Stress\, anxiety and depression at your business and at home can rob you from living a badass life! I Certify Badasses\, and I'm looking for you! The Badass Certification Class is a personal development class\, using a blend of positive psychology\, the latest in neuro-science and music to provide you with just the tool you need to have a positive mindset! I'll teach you not only the 'how'\, but the 'what and why'\, creating your own BadAss Soundtrack proves to be an instant attitude adjustment.
X-ALT-DESC;FMTTYPE=text/html:<span style="font-family:calibri\,sans-serif\; font-size:11pt">FEAR is the #1 obstacle for success! We&rsquo\;re Flipping the Format on the Fear of Failure! Are you ready to be a Certified Badass? I&rsquo\;ve found that most people are! Will you be one of them? Stress\, anxiety and depression at your business and at home can rob you from living a badass life! I Certify Badasses\, and I&rsquo\;m looking for you! The Badass Certification Class is a personal development class\, using a blend of positive psychology\, the latest in neuro-science and music to provide you with just the tool you need to have a positive mindset! I&rsquo\;ll teach you not only the &lsquo\;how&rsquo\;\, but the &lsquo\;what and why&rsquo\;\, creating your own BadAss Soundtrack proves to be an instant attitude adjustment.</span>
LOCATION:Michelle's Place Cancer Resource Center
UID:e.1918.18205
SEQUENCE:3
DTSTAMP:20260421T115450Z
URL:http://murrietachamber.chambermaster.com/events/details/badass-certification-class-18205
END:VEVENT

END:VCALENDAR
