BEGIN:VCALENDAR
VERSION:2.0
PRODID:-//ChamberMaster//Event Calendar 2.0//EN
METHOD:PUBLISH
X-PUBLISHED-TTL:P3D
REFRESH-INTERVAL:P3D
CALSCALE:GREGORIAN
BEGIN:VEVENT
DTSTART:20210619T230000Z
DTEND:20210620T050000Z
X-MICROSOFT-CDO-ALLDAYEVENT:FALSE
SUMMARY:Hilltop Brews & Views
DESCRIPTION:Come kick off our summer concert series June 19\, 2021\, at Heritage Hill in Murrieta\, CA. An evening of country music by the COUNTRY CLUB BAND and GINA ROODE! Enjoy great music\, amazing food\, cold beers\, full bar and more! All from a hilltop overlooking the entire Temecula/Murrieta Valley where you can enjoy iconic sunsets and majestic views!
X-ALT-DESC;FMTTYPE=text/html:Come kick off our summer concert series June 19\, 2021\, at Heritage Hill in Murrieta\, CA. An evening of country music by the COUNTRY CLUB BAND and GINA ROODE! Enjoy great music\, amazing food\, cold beers\, full bar and more! All from a hilltop overlooking the entire Temecula/Murrieta Valley where you can enjoy iconic sunsets and majestic views!
LOCATION:Heritage Hill 28701 Los Alamos Heights Rd. Murrieta\, CA 92563
UID:e.1918.17954
SEQUENCE:3
DTSTAMP:20260424T011847Z
URL:http://murrietachamber.chambermaster.com/events/details/hilltop-brews-views-17954
END:VEVENT

END:VCALENDAR
