BEGIN:VCALENDAR
VERSION:2.0
PRODID:-//ChamberMaster//Event Calendar 2.0//EN
METHOD:PUBLISH
X-PUBLISHED-TTL:P3D
REFRESH-INTERVAL:P3D
CALSCALE:GREGORIAN
BEGIN:VEVENT
DTSTART:20211114T180000Z
DTEND:20211114T190000Z
X-MICROSOFT-CDO-ALLDAYEVENT:FALSE
SUMMARY:Make a Difference Brunch
DESCRIPTION:Join us for a fun morning where you can take a tour of our newly completed center and learn about all of the services we offer to our community!
X-ALT-DESC;FMTTYPE=text/html:Join us for a fun morning where you can take a tour of our newly completed center and learn about all of the services we offer to our community!
LOCATION:Michelle's Place Cancer Resource Center 41669 Winchester Rd. #101 Temecula\, CA 92590
UID:e.1918.18223
SEQUENCE:3
DTSTAMP:20260422T121508Z
URL:http://murrietachamber.chambermaster.com/events/details/make-a-difference-brunch-18223
END:VEVENT

END:VCALENDAR
